BEGIN:VCALENDAR
VERSION:2.0
PRODID:-//ChamberMaster//Event Calendar 2.0//EN
METHOD:PUBLISH
X-PUBLISHED-TTL:P3D
REFRESH-INTERVAL:P3D
CALSCALE:GREGORIAN
BEGIN:VEVENT
DTSTART:20200919T170000Z
DTEND:20200919T180000Z
X-MICROSOFT-CDO-ALLDAYEVENT:FALSE
SUMMARY:12th Annual Women of Valor - Virtual Conference
DESCRIPTION:12th Annual Women of Valor Conference
X-ALT-DESC;FMTTYPE=text/html:12th Annual Women of Valor Conference
LOCATION:ONLINE : https://www.thewomenofvalor.com/conferences/2020
UID:e.1264.13018
SEQUENCE:3
DTSTAMP:20260422T060155Z
URL:https://cvc-brooks2024-gzcms.preview.gochambermaster.com/events/details/12th-annual-women-of-valor-virtual-conference-13018
END:VEVENT

END:VCALENDAR
