BEGIN:VCALENDAR
VERSION:2.0
PRODID:-//ChamberMaster//Event Calendar 2.0//EN
METHOD:PUBLISH
X-PUBLISHED-TTL:P3D
REFRESH-INTERVAL:P3D
CALSCALE:GREGORIAN
BEGIN:VEVENT
DTSTART:20181102T230000Z
DTEND:20181103T030000Z
X-MICROSOFT-CDO-ALLDAYEVENT:FALSE
SUMMARY:All-American Throwback Party with The Mulligans
DESCRIPTION:Join us in celebrating 50 years of the Air Force Enlisted Village\, a private nonprofit organization that provides a home for surviving spouses of retired enlisted USAF members. We're celebrating with local favorite The Mulligans. They'll perform your favorite songs from the 60s\, 70s\, and 80s starting at 7:00 p.m. Food\, beverages\, and chances to win prizes will be available for purchase starting at 6:00 p.m.
X-ALT-DESC;FMTTYPE=text/html:Join us in celebrating 50 years of the Air Force Enlisted Village\, a private nonprofit organization that provides a home for surviving spouses of retired enlisted USAF members. We&#39\;re celebrating with local favorite The Mulligans. They&#39\;ll perform your favorite songs from the 60s\, 70s\, and 80s starting at 7:00 p.m. Food\, beverages\, and chances to win prizes will be available for purchase starting at 6:00 p.m.
LOCATION:EMERALD COAST CONVENTION CENTER 1250 Miracle Strip Pkwy SE Fort Walton Beach
UID:e.1264.12516
SEQUENCE:3
DTSTAMP:20260424T073145Z
URL:https://cvc-brooks2024-gzcms.preview.gochambermaster.com/events/details/all-american-throwback-party-with-the-mulligans-12516
END:VEVENT

END:VCALENDAR
