BEGIN:VCALENDAR
VERSION:2.0
PRODID:-//ChamberMaster//Event Calendar 2.0//EN
METHOD:PUBLISH
X-PUBLISHED-TTL:P3D
REFRESH-INTERVAL:P3D
CALSCALE:GREGORIAN
BEGIN:VEVENT
DTSTART:20170321T233000Z
DTEND:20170322T001500Z
X-MICROSOFT-CDO-ALLDAYEVENT:FALSE
SUMMARY:Beekeeping Basics Family Library Time
DESCRIPTION:What's the buzz all about? Come to the Crestview Public Library at 6:30 p.m. on Tuesday\, March 21 to learn about how the honey bee lives and the respectful ways of keeping honeybees! All over America\, city beekeepers are keeping a few honey bee hives in their backyards. Learn what is involved: how\, when\, where and what you will need to establish a hive. If you're thinking about starting a bee hive or are just curious about what's involved with keeping bees\, then this is a great introductory presentation for you. This short presentation is designed for absolute beginners so no prerequisite knowledge is required. There will be no hands-on beekeeping\, so protective clothing and bravery will not be necessary. Taste a variety of local honeys and buy if you like! Family Library Time lasts about 45 minutes and is designed for adults and children four years old and up. Registration is not required for this free event.
X-ALT-DESC;FMTTYPE=text/html:What&rsquo\;s the buzz all about? Come to the Crestview Public Library at 6:30 p.m. on Tuesday\, March 21 to learn about how the honey bee lives and the respectful ways of keeping honeybees! All over America\, city beekeepers are keeping a few honey bee hives in their backyards. Learn what is involved: how\, when\, where and what you will need to establish a hive. If you&rsquo\;re thinking about starting a bee hive or are just curious about what&rsquo\;s involved with keeping bees\, then this is a great introductory presentation for you. This short presentation is designed for absolute beginners so no prerequisite knowledge is required. There will be no hands-on beekeeping\, so protective clothing and bravery will not be necessary. Taste a variety of local honeys and buy if you like! Family Library Time lasts about 45 minutes and is designed for adults and children four years old and up. Registration is not required for this free event.
LOCATION:Crestview Public Library 1445 Commerce Dr
UID:e.1264.10777
SEQUENCE:3
DTSTAMP:20260425T180229Z
URL:https://cvc-brooks2024-gzcms.preview.gochambermaster.com/events/details/beekeeping-basics-family-library-time-10777
END:VEVENT

END:VCALENDAR
