BEGIN:VCALENDAR
VERSION:2.0
PRODID:-//ChamberMaster//Event Calendar 2.0//EN
METHOD:PUBLISH
X-PUBLISHED-TTL:P3D
REFRESH-INTERVAL:P3D
CALSCALE:GREGORIAN
BEGIN:VEVENT
DTSTART:20210930T233000Z
DTEND:20211001T003000Z
X-MICROSOFT-CDO-ALLDAYEVENT:FALSE
SUMMARY:Behavior and Belonging
DESCRIPTION:In celebration of National Recovery Month\, join the Okaloosa County Anti-Drug Coalition for Behavior & Belonging - a Facebook Live event! This event will discuss how our faith-based organizations in Okaloosa County are helping folks prevent and recover from substance abuse. Check out the Facebook event here: https://www.facebook.com/antidrugcoalition Folks without a Facebook page can still join by visiting https://cdac.info/
X-ALT-DESC;FMTTYPE=text/html:In celebration of National Recovery Month\, join the Okaloosa County Anti-Drug Coalition for Behavior &amp\; Belonging - a Facebook Live event! This event will discuss how our faith-based organizations in Okaloosa County are helping folks prevent and recover from substance abuse. Check out the Facebook event here: https://www.facebook.com/antidrugcoalition Folks without a Facebook page can still join by visiting https://cdac.info/
LOCATION:Virtual
UID:e.1264.13842
SEQUENCE:3
DTSTAMP:20260421T050805Z
URL:https://cvc-brooks2024-gzcms.preview.gochambermaster.com/events/details/behavior-and-belonging-13842
END:VEVENT

END:VCALENDAR
