BEGIN:VCALENDAR
VERSION:2.0
PRODID:-//ChamberMaster//Event Calendar 2.0//EN
METHOD:PUBLISH
X-PUBLISHED-TTL:P3D
REFRESH-INTERVAL:P3D
CALSCALE:GREGORIAN
BEGIN:VEVENT
DTSTART:20220113T230000Z
DTEND:20220114T010000Z
X-MICROSOFT-CDO-ALLDAYEVENT:FALSE
SUMMARY:Business After Hours | Ashley Furniture Homestore
DESCRIPTION:Join us for our first Business After Hours in 2022 at Ashley Furniture Homestore at 2499 S Ferdon Blvd next to Bealls. We look forward to seeing you there for a fun time of networking and a great way to check out their amazing inventory!\n\nSee you there!
X-ALT-DESC;FMTTYPE=text/html:Join us for our first Business After Hours in 2022 at Ashley Furniture Homestore at 2499 S Ferdon Blvd next to Bealls. We look forward to seeing you there for a fun time of networking and a great way to check out their amazing inventory!<br />\nSee you there!
LOCATION:2499 S. Ferdon Blvd Crestview\, FL 32536
UID:e.1264.14020
SEQUENCE:3
DTSTAMP:20260420T221526Z
URL:https://cvc-brooks2024-gzcms.preview.gochambermaster.com/events/details/business-after-hours-ashley-furniture-homestore-14020
END:VEVENT

END:VCALENDAR
