BEGIN:VCALENDAR
VERSION:2.0
PRODID:-//ChamberMaster//Event Calendar 2.0//EN
METHOD:PUBLISH
X-PUBLISHED-TTL:P3D
REFRESH-INTERVAL:P3D
CALSCALE:GREGORIAN
BEGIN:VEVENT
DTSTART:20201002T173000Z
DTEND:20201002T183000Z
X-MICROSOFT-CDO-ALLDAYEVENT:FALSE
SUMMARY:Cancelled: Ribbon Cutting - Crestview Immediate Care
DESCRIPTION:
X-ALT-DESC;FMTTYPE=text/html:
LOCATION:4100 South Ferdon Blvd\, Suite A-3\, Crestview\, FL 32536
UID:e.1264.13019
SEQUENCE:3
DTSTAMP:20260422T025030Z
URL:https://cvc-brooks2024-gzcms.preview.gochambermaster.com/events/details/cancelled-ribbon-cutting-crestview-immediate-care-13019
END:VEVENT

END:VCALENDAR
