BEGIN:VCALENDAR
VERSION:2.0
PRODID:-//ChamberMaster//Event Calendar 2.0//EN
METHOD:PUBLISH
X-PUBLISHED-TTL:P3D
REFRESH-INTERVAL:P3D
CALSCALE:GREGORIAN
BEGIN:VEVENT
DTSTART:20180802T120000Z
DTEND:20180802T140000Z
X-MICROSOFT-CDO-ALLDAYEVENT:FALSE
SUMMARY:Chamber Breakfast sponsored by Crestview Health Center
DESCRIPTION:
X-ALT-DESC;FMTTYPE=text/html:
LOCATION:
UID:e.1264.12465
SEQUENCE:3
DTSTAMP:20260424T114540Z
URL:https://cvc-brooks2024-gzcms.preview.gochambermaster.com/events/details/chamber-breakfast-sponsored-by-crestview-health-center-12465
END:VEVENT

END:VCALENDAR
