BEGIN:VCALENDAR
VERSION:2.0
PRODID:-//ChamberMaster//Event Calendar 2.0//EN
METHOD:PUBLISH
X-PUBLISHED-TTL:P3D
REFRESH-INTERVAL:P3D
CALSCALE:GREGORIAN
BEGIN:VEVENT
DTSTART:20180804T140000Z
DTEND:20180804T170000Z
X-MICROSOFT-CDO-ALLDAYEVENT:FALSE
SUMMARY:Chamber of Commerce Community Health Fair
DESCRIPTION:Community Health Fair
X-ALT-DESC;FMTTYPE=text/html:Community Health Fair
LOCATION:Crestview Community Center 1446 Commerce Drive\, Crestview\, FL 32539
UID:e.1264.12493
SEQUENCE:3
DTSTAMP:20260424T114555Z
URL:https://cvc-brooks2024-gzcms.preview.gochambermaster.com/events/details/chamber-of-commerce-community-health-fair-12493
END:VEVENT

END:VCALENDAR
