BEGIN:VCALENDAR
VERSION:2.0
PRODID:-//ChamberMaster//Event Calendar 2.0//EN
METHOD:PUBLISH
X-PUBLISHED-TTL:P3D
REFRESH-INTERVAL:P3D
CALSCALE:GREGORIAN
BEGIN:VEVENT
DTSTART:20191207T233000Z
DTEND:20191208T020000Z
X-MICROSOFT-CDO-ALLDAYEVENT:FALSE
SUMMARY:Christmas Parade
DESCRIPTION:Come down to our Historic Downtown Crestview to enjoy our Annual Christmas Parade. THEME: TOYLAND
X-ALT-DESC;FMTTYPE=text/html:Come down to our Historic Downtown Crestview to enjoy our Annual Christmas Parade. THEME: TOYLAND&nbsp\;
LOCATION:Downtown Crestview
UID:e.1264.12876
SEQUENCE:3
DTSTAMP:20260423T021421Z
URL:https://cvc-brooks2024-gzcms.preview.gochambermaster.com/events/details/christmas-parade-12-07-2019-12876
END:VEVENT

END:VCALENDAR
