BEGIN:VCALENDAR
VERSION:2.0
PRODID:-//ChamberMaster//Event Calendar 2.0//EN
METHOD:PUBLISH
X-PUBLISHED-TTL:P3D
REFRESH-INTERVAL:P3D
CALSCALE:GREGORIAN
BEGIN:VEVENT
DTSTART:20181115T220000Z
DTEND:20181115T230000Z
X-MICROSOFT-CDO-ALLDAYEVENT:FALSE
SUMMARY:Combined Executive and General Board meeting
DESCRIPTION:combined Executive and General Board meeting
X-ALT-DESC;FMTTYPE=text/html:combined Executive and General Board meeting
LOCATION:Chamber of Commerce 1447 Commerce Dr. Crestview\, Fl 32539
UID:e.1264.12517
SEQUENCE:3
DTSTAMP:20260424T073144Z
URL:https://cvc-brooks2024-gzcms.preview.gochambermaster.com/events/details/combined-executive-and-general-board-meeting-12517
END:VEVENT

END:VCALENDAR
