BEGIN:VCALENDAR
VERSION:2.0
PRODID:-//ChamberMaster//Event Calendar 2.0//EN
METHOD:PUBLISH
X-PUBLISHED-TTL:P3D
REFRESH-INTERVAL:P3D
CALSCALE:GREGORIAN
BEGIN:VEVENT
DTSTART:20190723T180000Z
DTEND:20190723T190000Z
X-MICROSOFT-CDO-ALLDAYEVENT:FALSE
SUMMARY:Crestview Health and Wellness Center Ribbon Cutting
DESCRIPTION:Join us Crestview Health and Wellness Center for their Ribbon Cutting! There will also be a tour of the facility\, a chance to meet the team\, and refreshments.
X-ALT-DESC;FMTTYPE=text/html:Join us Crestview Health and Wellness Center for their Ribbon Cutting! There will also be a tour of the facility\, a chance to meet the team\, and refreshments.
LOCATION:596 N Ferdon Blvd. Crestview\, FL
UID:e.1264.12857
SEQUENCE:3
DTSTAMP:20260423T145245Z
URL:https://cvc-brooks2024-gzcms.preview.gochambermaster.com/events/details/crestview-health-and-wellness-center-ribbon-cutting-12857
END:VEVENT

END:VCALENDAR
