BEGIN:VCALENDAR
VERSION:2.0
PRODID:-//ChamberMaster//Event Calendar 2.0//EN
METHOD:PUBLISH
X-PUBLISHED-TTL:P3D
REFRESH-INTERVAL:P3D
CALSCALE:GREGORIAN
BEGIN:VEVENT
DTSTART:20211210T003000Z
DTEND:20211210T030000Z
X-MICROSOFT-CDO-ALLDAYEVENT:FALSE
SUMMARY:Cruisin' into Christmas
DESCRIPTION:Safe Connections is proud to invite you to join our host\, Emerald Coast Harley Davidson in supporting our 5th Annual Cruisin' into Christmas\, Festival of Trees. This fun evening will include a gourmet dinner\, musical entertainment and many silent and live auction opportunities to help raise much needed funding for Safe Connections. We want you to help us celebrate! We are looking for donations of Auction items\, Door Prizes and\, Christmas Tree Sponsorships https://2021safeconnectionscruisinintochristmas.eventbrite\,com
X-ALT-DESC;FMTTYPE=text/html:Safe Connections is proud to invite you to join our host\, Emerald Coast Harley Davidson in supporting our 5th Annual Cruisin&rsquo\; into Christmas\, Festival of Trees. This fun evening will include a gourmet dinner\, musical entertainment and many silent and live auction opportunities to help raise much needed funding for Safe Connections. We want you to help us celebrate! We are looking for donations of Auction items\, Door Prizes and\, Christmas Tree Sponsorships https://2021safeconnectionscruisinintochristmas.eventbrite\,com
LOCATION:Emerald Coast Harley Davidson 788 Beal Parkway NW Fort Walton Beach\, FL 32547
UID:e.1264.13841
SEQUENCE:3
DTSTAMP:20260420T233315Z
URL:https://cvc-brooks2024-gzcms.preview.gochambermaster.com/events/details/cruisin-into-christmas-13841
END:VEVENT

END:VCALENDAR
