BEGIN:VCALENDAR
VERSION:2.0
PRODID:-//ChamberMaster//Event Calendar 2.0//EN
METHOD:PUBLISH
X-PUBLISHED-TTL:P3D
REFRESH-INTERVAL:P3D
CALSCALE:GREGORIAN
BEGIN:VEVENT
DTSTART:20180922T130000Z
DTEND:20180922T170000Z
X-MICROSOFT-CDO-ALLDAYEVENT:FALSE
SUMMARY:Doc Holliday's Classic Car Shootout
DESCRIPTION:Family Dentistry and Dr. Richard Thomas are hosting Doc Holliday's Classic Car Shootout
X-ALT-DESC;FMTTYPE=text/html:Family Dentistry and Dr. Richard Thomas are hosting Doc Holliday&#39\;s Classic Car Shootout
LOCATION:201 Stillwell Blvd. Crestview\, FL
UID:e.1264.12502
SEQUENCE:3
DTSTAMP:20260424T102543Z
URL:https://cvc-brooks2024-gzcms.preview.gochambermaster.com/events/details/doc-holliday-s-classic-car-shootout-12502
END:VEVENT

END:VCALENDAR
