BEGIN:VCALENDAR
VERSION:2.0
PRODID:-//ChamberMaster//Event Calendar 2.0//EN
METHOD:PUBLISH
X-PUBLISHED-TTL:P3D
REFRESH-INTERVAL:P3D
CALSCALE:GREGORIAN
BEGIN:VEVENT
DTSTART:20190909T220000Z
DTEND:20190914T000000Z
X-MICROSOFT-CDO-ALLDAYEVENT:FALSE
SUMMARY:Drumline Camp
DESCRIPTION:The City of Crestview Parks and Recreation and the Crestview Youth Coalition present the Crestview All-star Marching Unit. The camp will be nightly 9/9-9/13 from 5pm to 7pm. No experience is necessary\,
X-ALT-DESC;FMTTYPE=text/html:The City of Crestview Parks and Recreation and the Crestview Youth Coalition present the Crestview All-star Marching Unit. The camp will be nightly 9/9-9/13 from 5pm to 7pm. No experience is necessary\,
LOCATION:Allen Park 902 McClelland Street
UID:e.1264.12882
SEQUENCE:3
DTSTAMP:20260423T072437Z
URL:https://cvc-brooks2024-gzcms.preview.gochambermaster.com/events/details/drumline-camp-12882
END:VEVENT

END:VCALENDAR
