BEGIN:VCALENDAR
VERSION:2.0
PRODID:-//ChamberMaster//Event Calendar 2.0//EN
METHOD:PUBLISH
X-PUBLISHED-TTL:P3D
REFRESH-INTERVAL:P3D
CALSCALE:GREGORIAN
BEGIN:VEVENT
DTSTART:20200925T000000Z
DTEND:20200925T010000Z
X-MICROSOFT-CDO-ALLDAYEVENT:FALSE
SUMMARY:FamiliesFirst Network Virtual Foster Parent Info Session
DESCRIPTION:Become a Foster Parent! https://www.elakeviewcenter.org/FamiliesFirstNetwork/virtual-foster-parent-info-sessions
X-ALT-DESC;FMTTYPE=text/html:Become a Foster Parent! https://www.elakeviewcenter.org/FamiliesFirstNetwork/virtual-foster-parent-info-sessions
LOCATION:https://www.elakeviewcenter.org/FamiliesFirstNetwork/virtual-foster-parent-info-sessions
UID:e.1264.13015
SEQUENCE:3
DTSTAMP:20260422T074947Z
URL:https://cvc-brooks2024-gzcms.preview.gochambermaster.com/events/details/familiesfirst-network-virtual-foster-parent-info-session-09-24-2020-13015
END:VEVENT

END:VCALENDAR
