BEGIN:VCALENDAR
VERSION:2.0
PRODID:-//ChamberMaster//Event Calendar 2.0//EN
METHOD:PUBLISH
X-PUBLISHED-TTL:P3D
REFRESH-INTERVAL:P3D
CALSCALE:GREGORIAN
BEGIN:VEVENT
DTSTART:20191111T180000Z
DTEND:20191111T190000Z
X-MICROSOFT-CDO-ALLDAYEVENT:FALSE
SUMMARY:Flag Retirement Ceremony
DESCRIPTION:Old and damaged United States Flags will be formally retired.
X-ALT-DESC;FMTTYPE=text/html:Old and damaged United States Flags will be formally retired.
LOCATION:701 East James Lee Blvd.
UID:e.1264.12885
SEQUENCE:3
DTSTAMP:20260423T021309Z
URL:https://cvc-brooks2024-gzcms.preview.gochambermaster.com/events/details/flag-retirement-ceremony-12885
END:VEVENT

END:VCALENDAR
