BEGIN:VCALENDAR
VERSION:2.0
PRODID:-//ChamberMaster//Event Calendar 2.0//EN
METHOD:PUBLISH
X-PUBLISHED-TTL:P3D
REFRESH-INTERVAL:P3D
CALSCALE:GREGORIAN
BEGIN:VEVENT
DTSTART:20221101T180000Z
DTEND:20221101T200000Z
X-MICROSOFT-CDO-ALLDAYEVENT:FALSE
SUMMARY:Florida Procurement Technical Assistance Center presents “How to do Business with State and Local Agencies” Online Webinar
DESCRIPTION:The Florida PTAC at UWF offers a workshop entitled "How to do Business with State and Local Agencies" on November 1 from 1:00   3:00 p.m.  This webinar is for those who are brand new to government contracting and want to do business with State and local agencies.\n\nWe will cover:\n\n	How to find opportunities with State\, county\, and city government agencies\n	How to market your company and connect with decision-makers\n	How to win your first contract and then win more\n\nThe workshop will conclude with an interactive Q&A and discussion about growing your business through government small business opportunities.\n\nNo fee.  Zoom link will be provided prior to the webinar.  Pre-registration required.  To register\, visit our website at www.sbdc.uwf.edu under "Training & Events".  \n\nSpeaker: Don Zavesky\, Manager\, Florida PTAC
X-ALT-DESC;FMTTYPE=text/html:<span style="color:black"><span style="font-family:calibri\,sans-serif">The Florida PTAC at UWF offers a workshop entitled <strong>&ldquo\;How to do Business with State and Local Agencies&rdquo\; </strong>on November 1 from 1:00 &ndash\; 3:00 p.m.&nbsp\; </span></span><span style="color:#3C4043"><span style="font-family:roboto"><span style="font-size:10.5pt">This webinar is for those who are brand new to government contracting and want to do business with State and local agencies.</span></span></span><br />\n<span style="color:#3C4043"><span style="font-family:roboto"><span style="font-size:10.5pt">We will cover:</span></span></span>\n<ul>\n	<li style="text-align:left"><span style="color:#3C4043"><span style="font-family:roboto"><span style="font-size:10.5pt">How to find opportunities with State\, county\, and city government agencies</span></span></span></li>\n	<li style="text-align:left"><span style="color:#3C4043"><span style="font-family:roboto"><span style="font-size:10.5pt">How to market your company and connect with decision-makers</span></span></span></li>\n	<li style="text-align:left"><span style="color:#3C4043"><span style="font-family:roboto"><span style="font-size:10.5pt">How to win your first contract and then win more</span></span></span></li>\n</ul>\n<span style="color:#3C4043"><span style="font-family:roboto"><span style="font-size:10.5pt">The workshop will conclude with an interactive Q&amp\;A and discussion about growing your business through government small business opportunities.</span></span></span><br />\n<span style="color:black"><span style="font-family:calibri\,sans-serif">No fee.&nbsp\; Zoom link will be provided prior to the webinar.&nbsp\; Pre-registration required.&nbsp\; To register\, visit our website at </span></span><span style="color:black"><a href="http://www.fptac.org/"><span style="font-family:calibri\,sans-serif">www.</span></a></span><span style="font-family:calibri\,sans-serif">sbdc.uwf.edu</span><span style="color:black"><span style="font-family:calibri\,sans-serif"> under &ldquo\;Training &amp\; Events&rdquo\;.&nbsp\; </span></span><br />\n<em><span style="font-family:calibri\,sans-serif">Speaker: Don Zavesky\, Manager\, Florida PTAC </span></em>
LOCATION:Online
UID:e.1264.14868
SEQUENCE:3
DTSTAMP:20260420T051206Z
URL:https://cvc-brooks2024-gzcms.preview.gochambermaster.com/events/details/florida-procurement-technical-assistance-center-presents-how-to-do-business-with-state-and-local-agencies-online-webinar-14868
END:VEVENT

END:VCALENDAR
