BEGIN:VCALENDAR
VERSION:2.0
PRODID:-//ChamberMaster//Event Calendar 2.0//EN
METHOD:PUBLISH
X-PUBLISHED-TTL:P3D
REFRESH-INTERVAL:P3D
CALSCALE:GREGORIAN
BEGIN:VEVENT
DTSTART:20191101T180000Z
DTEND:20191101T220000Z
X-MICROSOFT-CDO-ALLDAYEVENT:FALSE
SUMMARY:Forged on Friday - Make a Nutcracker with bowl
DESCRIPTION:Just in time for holiday serving. We will make the bowl using a swedge block and form\, you can make it simple or add ornamentation of your choosing. The nutcracker is a study in making spring steel objects similar to old style scissors or spring tongs. For any blacksmithing class please wear cotton or natural fabric clothing\, long trousers and solid shoes or boots are required\, long sleeve cotton (not flannel) shirt highly recommended. We supply your steel\, coal\, tools\, working materials\, gloves\, eye and ear protection\, plus dust masks when necessary but if you have a leather apron you might want to bring it.
X-ALT-DESC;FMTTYPE=text/html:Just in time for holiday serving. We will make the bowl using a swedge block and form\, you can make it simple or add ornamentation of your choosing. The nutcracker is a study in making spring steel objects similar to old style scissors or spring tongs. For any blacksmithing class please wear cotton or natural fabric clothing\, long trousers and solid shoes or boots are required\, long sleeve cotton (not flannel) shirt highly recommended. We supply your steel\, coal\, tools\, working materials\, gloves\, eye and ear protection\, plus dust masks when necessary but if you have a leather apron you might want to bring it.
LOCATION:Traditions Workshop 418 Green Acres Rd.\, Suite 4/5 Fort Walton Beach
UID:e.1264.12891
SEQUENCE:3
DTSTAMP:20260423T021308Z
URL:https://cvc-brooks2024-gzcms.preview.gochambermaster.com/events/details/forged-on-friday-make-a-nutcracker-with-bowl-12891
END:VEVENT

END:VCALENDAR
