BEGIN:VCALENDAR
VERSION:2.0
PRODID:-//ChamberMaster//Event Calendar 2.0//EN
METHOD:PUBLISH
X-PUBLISHED-TTL:P3D
REFRESH-INTERVAL:P3D
CALSCALE:GREGORIAN
BEGIN:VEVENT
DTSTART:20170412T133000Z
DTEND:20170412T143000Z
X-MICROSOFT-CDO-ALLDAYEVENT:FALSE
SUMMARY:Government Issues Committee Meeting
DESCRIPTION:Government Issues Committee\n\n\n\nSpeaker:\n\nDarryl Boudreau\n\nDirector\, Florida Local Government Relations\n\nThe Nature Conservancy\n\n\n\nThe eyes and ears of the Chamber of Commerce for local\, state\, national legislative issues\, laws and ordinance that directly or indirectly affects or restricts the ability of our members or a member to conduct business. This committee will recommend policy positions to the Executive Officers and subsequently to the Board of Directors as necessary. They may also sponsor candidate forums and/or meetings with elected officials and will\, on occasion\, attend city council and county commissioner meetings.\n\n\n\nMonthly Meeting Schedule: 2nd Wednesday\, 8:30 am @ the Chamber
X-ALT-DESC;FMTTYPE=text/html:Government Issues Committee<br />\n<br />\n<strong>Speaker:<br />\nDarryl Boudreau<br />\nDirector\, Florida Local Government Relations<br />\nThe Nature Conservancy</strong><br />\n<br />\nThe eyes and ears of the Chamber of Commerce for local\, state\, national legislative issues\, laws and ordinance that directly or indirectly affects or restricts the ability of our members or a member to conduct business. This committee will recommend policy positions to the Executive Officers and subsequently to the Board of Directors as necessary. They may also sponsor candidate forums and/or meetings with elected officials and will\, on occasion\, attend city council and county commissioner meetings.<br />\n<br />\nMonthly Meeting Schedule: 2nd Wednesday\, 8:30 am @ the Chamber
LOCATION:Crestview Chamber of Commerce 1447 Commerce Drive
UID:e.1264.5309
SEQUENCE:3
DTSTAMP:20260425T142143Z
URL:https://cvc-brooks2024-gzcms.preview.gochambermaster.com/events/details/government-issues-committee-meeting-04-12-2017-5309
END:VEVENT

END:VCALENDAR
