BEGIN:VCALENDAR
VERSION:2.0
PRODID:-//ChamberMaster//Event Calendar 2.0//EN
METHOD:PUBLISH
X-PUBLISHED-TTL:P3D
REFRESH-INTERVAL:P3D
CALSCALE:GREGORIAN
BEGIN:VEVENT
DTSTART:20190110T233000Z
DTEND:20190111T003000Z
X-MICROSOFT-CDO-ALLDAYEVENT:FALSE
SUMMARY:January After Hours sponsored by Dose of Johnny C.
DESCRIPTION:After Hours event for January sponsored by Dose of Johnny C.
X-ALT-DESC;FMTTYPE=text/html:After Hours event for January sponsored by Dose of Johnny C.
LOCATION:Chamber of Commerce 1447 Commerce Drive Crestview\, FL 32539
UID:e.1264.12523
SEQUENCE:3
DTSTAMP:20260424T033831Z
URL:https://cvc-brooks2024-gzcms.preview.gochambermaster.com/events/details/january-after-hours-sponsored-by-dose-of-johnny-c-12523
END:VEVENT

END:VCALENDAR
