BEGIN:VCALENDAR
VERSION:2.0
PRODID:-//ChamberMaster//Event Calendar 2.0//EN
METHOD:PUBLISH
X-PUBLISHED-TTL:P3D
REFRESH-INTERVAL:P3D
CALSCALE:GREGORIAN
BEGIN:VEVENT
DTSTART:20190606T120000Z
DTEND:20190606T140000Z
X-MICROSOFT-CDO-ALLDAYEVENT:FALSE
SUMMARY:June Networking Breakfast Sponsored by Elite Real Estate and Elite Construction\, INC
DESCRIPTION:June Networking Breakfast Sponsored by Elite Real Estate and Elite Construction\, INC
X-ALT-DESC;FMTTYPE=text/html:June Networking Breakfast Sponsored by Elite Real Estate and Elite Construction\, INC
LOCATION:Crestview Community Center 1446 Commerce Drive\, Crestview\, FL 32539
UID:e.1264.12832
SEQUENCE:3
DTSTAMP:20260423T173818Z
URL:https://cvc-brooks2024-gzcms.preview.gochambermaster.com/events/details/june-networking-breakfast-sponsored-by-elite-real-estate-and-elite-construction-inc-12832
END:VEVENT

END:VCALENDAR
