BEGIN:VCALENDAR
VERSION:2.0
PRODID:-//ChamberMaster//Event Calendar 2.0//EN
METHOD:PUBLISH
X-PUBLISHED-TTL:P3D
REFRESH-INTERVAL:P3D
CALSCALE:GREGORIAN
BEGIN:VEVENT
DTSTART:20180320T160000Z
DTEND:20180320T170000Z
X-MICROSOFT-CDO-ALLDAYEVENT:FALSE
SUMMARY:Let's Do Lunch! (Ambassador's Luncheon)
DESCRIPTION:Let's Do Lunch!  Bring a friend or a co-worked to lunch with a group of Chamber Ambassadors.  It's a great way to network!
X-ALT-DESC;FMTTYPE=text/html:Let&#39\;s Do Lunch!&nbsp\; Bring a friend or a co-worked to lunch with a group of Chamber Ambassadors.&nbsp\; It&#39\;s a great way to network!
LOCATION:Zaxby's in Crestview
UID:e.1264.12449
SEQUENCE:3
DTSTAMP:20260424T214822Z
URL:https://cvc-brooks2024-gzcms.preview.gochambermaster.com/events/details/let-s-do-lunch-ambassador-s-luncheon-12449
END:VEVENT

END:VCALENDAR
