BEGIN:VCALENDAR
VERSION:2.0
PRODID:-//ChamberMaster//Event Calendar 2.0//EN
METHOD:PUBLISH
X-PUBLISHED-TTL:P3D
REFRESH-INTERVAL:P3D
CALSCALE:GREGORIAN
BEGIN:VEVENT
DTSTART:20210307T183000Z
DTEND:20210307T220000Z
X-MICROSOFT-CDO-ALLDAYEVENT:FALSE
SUMMARY:Mac & Cheese Festival Benefiting The Boys and Girls Clubs of the Emerald Coast
DESCRIPTION:Thought macaroni and cheese was just for kids? Think again! Join the 3rd Annual Mac & Cheese Festival benefiting the Boys & Girls Clubs of the Emerald Coast on Sunday\, March 7th\, 2021 at Destin Commons! This family-friendly event will feature gourmet\, chef-inspired twists on the South's favorite comfort food. Local restaurants will compete for the best mac in town. Be sure to sample everything for yourself and cast your vote!\n\n\n\n*All proceeds from this event will go to the Boys & Girls Clubs of the Emerald Coast\, which works in out community to promote and enhance the development of boys and girls by instilling a sense of competence\, usefulness\, belonging\, and influence through it's programs focused on academic success\, good character and citizenship\, and healthy lifestyles. \n\n\n\nSponsorships for this event are available. To learn how your business can be involved\, please contact hello@francesroy.com.
X-ALT-DESC;FMTTYPE=text/html:Thought macaroni and cheese was just for kids? Think again! Join the 3rd Annual Mac &amp\; Cheese Festival benefiting the Boys &amp\; Girls Clubs of the Emerald Coast on Sunday\, March 7th\, 2021 at Destin Commons! This family-friendly event will feature gourmet\, chef-inspired twists on the South&#39\;s favorite comfort food. Local restaurants will compete for the best mac in town. Be sure to sample everything for yourself and cast your vote!<br />\n<br />\n*All proceeds from this event will go to the Boys &amp\; Girls Clubs of the Emerald Coast\, which works in out community to promote and enhance the development of boys and girls by instilling a sense of competence\, usefulness\, belonging\, and influence through it&#39\;s programs focused on academic success\, good character and citizenship\, and healthy lifestyles.&nbsp\;<br />\n<br />\nSponsorships for this event are available. To learn how your business can be involved\, please contact hello@francesroy.com.&nbsp\;
LOCATION:Destin Commons - 4100 Legendary Dr\, Destin\, FL 32541
UID:e.1264.13044
SEQUENCE:3
DTSTAMP:20260421T214617Z
URL:https://cvc-brooks2024-gzcms.preview.gochambermaster.com/events/details/mac-cheese-festival-benefiting-the-boys-and-girls-clubs-of-the-emerald-coast-13044
END:VEVENT

END:VCALENDAR
