BEGIN:VCALENDAR
VERSION:2.0
PRODID:-//ChamberMaster//Event Calendar 2.0//EN
METHOD:PUBLISH
X-PUBLISHED-TTL:P3D
REFRESH-INTERVAL:P3D
CALSCALE:GREGORIAN
BEGIN:VEVENT
DTSTART:20230316T170000Z
DTEND:20230316T180000Z
X-MICROSOFT-CDO-ALLDAYEVENT:FALSE
SUMMARY:NO Young Professional Luncheon THIS MONTH
DESCRIPTION:No YP Luncheon this month. We hope to see you at our Toptracer Tournament at Blackwater Golf Club tomorrow!
X-ALT-DESC;FMTTYPE=text/html:<br />\n<span style="color:#000000\;"><span style="font-size:14px\;"><span style="font-family:verdana\;"><strong><span style="font-size:20px\;">No YP Luncheon this month. We hope to see you at our Toptracer Tournament at Blackwater Golf Club tomorrow!</span></strong></span></span></span><br />\n<br />\n&nbsp\;
LOCATION:The Crossing at Blackwater Golf Club
UID:e.1264.13261
SEQUENCE:3
DTSTAMP:20260419T185013Z
URL:https://cvc-brooks2024-gzcms.preview.gochambermaster.com/events/details/no-young-professional-luncheon-this-month-13261
END:VEVENT

END:VCALENDAR
