BEGIN:VCALENDAR
VERSION:2.0
PRODID:-//ChamberMaster//Event Calendar 2.0//EN
METHOD:PUBLISH
X-PUBLISHED-TTL:P3D
REFRESH-INTERVAL:P3D
CALSCALE:GREGORIAN
BEGIN:VEVENT
DTSTART:20190423T180000Z
DTEND:20190427T045500Z
X-MICROSOFT-CDO-ALLDAYEVENT:FALSE
SUMMARY:Nominations for the 2019 Women of Honor are due by April 26th
DESCRIPTION:Honor a special woman in your life by adding her name to the roll of the Okaloosa County Women of Honor (formerly the Wall of Honor). This annual fundraiser for the Okaloosa County Commission on the Status of Women (OCCSW) enables you to honor Mom for Mother's Day\, or to recognize a cherished friend\, co-worker or member of your organization who has made a difference in your life\, all for a $100 tax-deductible donation to the OCSW\, Inc. Foundation. Deadline for entry is April 26th\, so don't delay! Honorees will inducted with a ceremony and reception on Tuesday\, 7 May at 10:00 am in Room 126\, Building 1\, University of West Florida\, Fort Walton Beach campus\, and will have a permanent name plate on the Women of Honor plaque in the university library. Submit your nomination online at www.TheOCSW.org. Your $100 donation to the OCSW\, Inc. Foundation may be paid online as well\, or you may mail a printed nomination form and check to OCSW\, Inc.\, PO Box 1323\, Fort Walton Beach\, FL 32548.
X-ALT-DESC;FMTTYPE=text/html:Honor a special woman in your life by adding her name to the roll of the Okaloosa County Women of Honor (formerly the Wall of Honor). This annual fundraiser for the Okaloosa County Commission on the Status of Women (OCCSW) enables you to honor Mom for Mother&rsquo\;s Day\, or to recognize a cherished friend\, co-worker or member of your organization who has made a difference in your life\, all for a $100 tax-deductible donation to the OCSW\, Inc. Foundation. Deadline for entry is April 26th\, so don&rsquo\;t delay! Honorees will inducted with a ceremony and reception on Tuesday\, 7 May at 10:00 am in Room 126\, Building 1\, University of West Florida\, Fort Walton Beach campus\, and will have a permanent name plate on the Women of Honor plaque in the university library. Submit your nomination online at www.TheOCSW.org. Your $100 donation to the OCSW\, Inc. Foundation may be paid online as well\, or you may mail a printed nomination form and check to OCSW\, Inc.\, PO Box 1323\, Fort Walton Beach\, FL 32548.
LOCATION:Emerald Coast | UWF 1170 MLK Blvd\, Bldg 1\, Room 126 Fort Walton Beach FL 32547
UID:e.1264.12577
SEQUENCE:3
DTSTAMP:20260423T190548Z
URL:https://cvc-brooks2024-gzcms.preview.gochambermaster.com/events/details/nominations-for-the-2019-women-of-honor-are-due-by-april-26th-12577
END:VEVENT

END:VCALENDAR
