BEGIN:VCALENDAR
VERSION:2.0
PRODID:-//ChamberMaster//Event Calendar 2.0//EN
METHOD:PUBLISH
X-PUBLISHED-TTL:P3D
REFRESH-INTERVAL:P3D
CALSCALE:GREGORIAN
BEGIN:VEVENT
DTSTART:20211112T140000Z
DTEND:20211112T180000Z
X-MICROSOFT-CDO-ALLDAYEVENT:FALSE
SUMMARY:NWFSC Dual Enrollment Pre-flight
DESCRIPTION:Join Northwest Florida State College for the first Dual Enrollment Pre-flight training session! A free half-day in-person college preparation event designed for 9th through 12th-grade students in Okaloosa\, Walton\, and other surrounding counties. NWF gurus will take students on an all-access trip into the process of college admission\, registration\, and life of DE students. Limited seats available. Registration is required to join. Visit www.nwfsc.edu/koc to learn more about this exciting opportunity.
X-ALT-DESC;FMTTYPE=text/html:Join Northwest Florida State College for the first Dual Enrollment Pre-flight training session! A free half-day in-person college preparation event designed for 9th through 12th-grade students in Okaloosa\, Walton\, and other surrounding counties. NWF gurus will take students on an all-access trip into the process of college admission\, registration\, and life of DE students. Limited seats available. Registration is required to join. Visit www.nwfsc.edu/koc to learn more about this exciting opportunity.
LOCATION:Northwest Florida State College
UID:e.1264.13854
SEQUENCE:3
DTSTAMP:20260421T021846Z
URL:https://cvc-brooks2024-gzcms.preview.gochambermaster.com/events/details/nwfsc-dual-enrollment-pre-flight-13854
END:VEVENT

END:VCALENDAR
