BEGIN:VCALENDAR
VERSION:2.0
PRODID:-//ChamberMaster//Event Calendar 2.0//EN
METHOD:PUBLISH
X-PUBLISHED-TTL:P3D
REFRESH-INTERVAL:P3D
CALSCALE:GREGORIAN
BEGIN:VEVENT
DTSTART:20210709T150000Z
DTEND:20210709T190000Z
X-MICROSOFT-CDO-ALLDAYEVENT:FALSE
SUMMARY:OCSD Job Fair
DESCRIPTION:Okaloosa County School District is hiring for the following positions: Bus Drivers\, Substitutes\, Paraprofessionals\, Maintenance Techs\, Mechanics\, Custodians\, and more. Full benefits are provided at 4 hours per day. We have positions available countywide.
X-ALT-DESC;FMTTYPE=text/html:Okaloosa County School District is hiring for the following positions: Bus Drivers\, Substitutes\, Paraprofessionals\, Maintenance Techs\, Mechanics\, Custodians\, and more. Full benefits are provided at 4 hours per day. We have positions available countywide.
LOCATION:Niceville Admin Complex 202A Hwy 85 N Niceville\, FL 32578
UID:e.1264.13220
SEQUENCE:3
DTSTAMP:20260421T151144Z
URL:https://cvc-brooks2024-gzcms.preview.gochambermaster.com/events/details/ocsd-job-fair-13220
END:VEVENT

END:VCALENDAR
