BEGIN:VCALENDAR
VERSION:2.0
PRODID:-//ChamberMaster//Event Calendar 2.0//EN
METHOD:PUBLISH
X-PUBLISHED-TTL:P3D
REFRESH-INTERVAL:P3D
CALSCALE:GREGORIAN
BEGIN:VEVENT
DTSTART:20230226T040000Z
DTEND:20230227T020000Z
X-MICROSOFT-CDO-ALLDAYEVENT:FALSE
SUMMARY:Pensacola Habitat for Humanity Food Truck Festival
DESCRIPTION:Pensacola Habitat for Humanity welcomes families\, food lovers\, adventure seekers\, and Pensacola Habitat supporters to its annual food truck festival in support of our mission of bringing people together to build homes\, communities\, and hope. This event features a diverse mix of food trucks featuring their signature dishes\, live entertainment\, a Food Truck Tasting Competition\, and more! All ticket proceeds from this event directly benefits Pensacola Habitat for Humanity and the families and individuals they serve in Escambia and Santa Rosa Counties.
X-ALT-DESC;FMTTYPE=text/html:Pensacola Habitat for Humanity welcomes families\, food lovers\, adventure seekers\, and Pensacola Habitat supporters to its annual food truck festival in support of our mission of bringing people together to build homes\, communities\, and hope. This event features a diverse mix of food trucks featuring their signature dishes\, live entertainment\, a Food Truck Tasting Competition\, and more! All ticket proceeds from this event directly benefits Pensacola Habitat for Humanity and the families and individuals they serve in Escambia and Santa Rosa Counties.
LOCATION:Community Maritime Park
UID:e.1264.15213
SEQUENCE:3
DTSTAMP:20260420T051200Z
URL:https://cvc-brooks2024-gzcms.preview.gochambermaster.com/events/details/pensacola-habitat-for-humanity-food-truck-festival-15213
END:VEVENT

END:VCALENDAR
