BEGIN:VCALENDAR
VERSION:2.0
PRODID:-//ChamberMaster//Event Calendar 2.0//EN
METHOD:PUBLISH
X-PUBLISHED-TTL:P3D
REFRESH-INTERVAL:P3D
CALSCALE:GREGORIAN
BEGIN:VEVENT
DTSTART:20190611T180000Z
DTEND:20190611T190000Z
X-MICROSOFT-CDO-ALLDAYEVENT:FALSE
SUMMARY:Project Adapt & Overcome Ribbon Cutting
DESCRIPTION:Please help us welcome Project Adapt & Overcome to the Crestview Community!
X-ALT-DESC;FMTTYPE=text/html:Please help us welcome Project Adapt &amp\; Overcome to the Crestview Community!&nbsp\;
LOCATION:Atlas Martial Arts 4385 S Ferdon Blvd\, Crestview\, FL 32536
UID:e.1264.12846
SEQUENCE:3
DTSTAMP:20260423T145133Z
URL:https://cvc-brooks2024-gzcms.preview.gochambermaster.com/events/details/project-adapt-overcome-ribbon-cutting-12846
END:VEVENT

END:VCALENDAR
