BEGIN:VCALENDAR
VERSION:2.0
PRODID:-//ChamberMaster//Event Calendar 2.0//EN
METHOD:PUBLISH
X-PUBLISHED-TTL:P3D
REFRESH-INTERVAL:P3D
CALSCALE:GREGORIAN
BEGIN:VEVENT
DTSTART:20201030T170000Z
DTEND:20201030T180000Z
X-MICROSOFT-CDO-ALLDAYEVENT:FALSE
SUMMARY:Ribbon Cutting - Beyond Wax Studio
DESCRIPTION:Please join us for a Ribbon Cutting to welcome one of our newest members - Beyond Wax Studio!
X-ALT-DESC;FMTTYPE=text/html:Please join us for a Ribbon Cutting to welcome one of our newest members - Beyond Wax Studio!
LOCATION:128 John King Rd Suite #14 Crestview\, FL 32539
UID:e.1264.13023
SEQUENCE:3
DTSTAMP:20260422T024955Z
URL:https://cvc-brooks2024-gzcms.preview.gochambermaster.com/events/details/ribbon-cutting-beyond-wax-studio-13023
END:VEVENT

END:VCALENDAR
