BEGIN:VCALENDAR
VERSION:2.0
PRODID:-//ChamberMaster//Event Calendar 2.0//EN
METHOD:PUBLISH
X-PUBLISHED-TTL:P3D
REFRESH-INTERVAL:P3D
CALSCALE:GREGORIAN
BEGIN:VEVENT
DTSTART:20180309T190000Z
DTEND:20180309T200000Z
X-MICROSOFT-CDO-ALLDAYEVENT:FALSE
SUMMARY:Ribbon Cutting for Spine Life Chiropractic
DESCRIPTION:Join us for a ribbon cutting to celebrate Spine Life Chiropractic\, LLC!
X-ALT-DESC;FMTTYPE=text/html:Join us for a ribbon cutting to celebrate Spine Life Chiropractic\, LLC!
LOCATION:1695 S Ferdon Blvd Crestview\, FL
UID:e.1264.12444
SEQUENCE:3
DTSTAMP:20260424T214855Z
URL:https://cvc-brooks2024-gzcms.preview.gochambermaster.com/events/details/ribbon-cutting-for-spine-life-chiropractic-12444
END:VEVENT

END:VCALENDAR
