BEGIN:VCALENDAR
VERSION:2.0
PRODID:-//ChamberMaster//Event Calendar 2.0//EN
METHOD:PUBLISH
X-PUBLISHED-TTL:P3D
REFRESH-INTERVAL:P3D
CALSCALE:GREGORIAN
BEGIN:VEVENT
DTSTART:20161109T220000Z
DTEND:20161109T230000Z
X-MICROSOFT-CDO-ALLDAYEVENT:FALSE
SUMMARY:Ribbon Cutting | Pain Consultants of West Florida
DESCRIPTION:
X-ALT-DESC;FMTTYPE=text/html:
LOCATION:221 E Redstone Ave (in the Renlus building)
UID:e.1264.10556
SEQUENCE:3
DTSTAMP:20260425T221824Z
URL:https://cvc-brooks2024-gzcms.preview.gochambermaster.com/events/details/ribbon-cutting-pain-consultants-of-west-florida-10556
END:VEVENT

END:VCALENDAR
