BEGIN:VCALENDAR
VERSION:2.0
PRODID:-//ChamberMaster//Event Calendar 2.0//EN
METHOD:PUBLISH
X-PUBLISHED-TTL:P3D
REFRESH-INTERVAL:P3D
CALSCALE:GREGORIAN
BEGIN:VEVENT
DTSTART:20210803T160000Z
DTEND:20210803T170000Z
X-MICROSOFT-CDO-ALLDAYEVENT:FALSE
SUMMARY:Ribbon Cutting Pro Vita Physical Therapy\, LLC
DESCRIPTION:Join us for a Ribbon Cutting Ceremony to celebrate Pro Vita Physical Therapy in Downtown Crestview.
X-ALT-DESC;FMTTYPE=text/html:Join us for a Ribbon Cutting Ceremony to celebrate Pro Vita Physical Therapy in Downtown Crestview.
LOCATION:294 N Main St. Crestview\, FL 32536
UID:e.1264.13238
SEQUENCE:3
DTSTAMP:20260421T121641Z
URL:https://cvc-brooks2024-gzcms.preview.gochambermaster.com/events/details/ribbon-cutting-pro-vita-physical-therapy-llc-13238
END:VEVENT

END:VCALENDAR
