BEGIN:VCALENDAR
VERSION:2.0
PRODID:-//ChamberMaster//Event Calendar 2.0//EN
METHOD:PUBLISH
X-PUBLISHED-TTL:P3D
REFRESH-INTERVAL:P3D
CALSCALE:GREGORIAN
BEGIN:VEVENT
DTSTART:20190228T180000Z
DTEND:20190228T190000Z
X-MICROSOFT-CDO-ALLDAYEVENT:FALSE
SUMMARY:Shot In Focus Ribbon Cutting
DESCRIPTION:Ribbon Cutting for Shot in Focus Portrait Studios
X-ALT-DESC;FMTTYPE=text/html:Ribbon Cutting for Shot in Focus Portrait Studios
LOCATION:1505 S. Ferdon Blvd. Ste. B Crestview\, FL 32536
UID:e.1264.12539
SEQUENCE:3
DTSTAMP:20260423T221158Z
URL:https://cvc-brooks2024-gzcms.preview.gochambermaster.com/events/details/shot-in-focus-ribbon-cutting-12539
END:VEVENT

END:VCALENDAR
