BEGIN:VCALENDAR
VERSION:2.0
PRODID:-//ChamberMaster//Event Calendar 2.0//EN
METHOD:PUBLISH
X-PUBLISHED-TTL:P3D
REFRESH-INTERVAL:P3D
CALSCALE:GREGORIAN
BEGIN:VEVENT
DTSTART:20191211T160000Z
DTEND:20191211T200000Z
X-MICROSOFT-CDO-ALLDAYEVENT:FALSE
SUMMARY:Troy University Office Hours
DESCRIPTION:You may have finished your holiday shopping already\, but did you remember to treat yourself too? This year\, give yourself the gift of an education from a nationally ranked\, regionally accredited university. Stop by the Crestview Chamber to chat with a Recruiter about furthering your education online.
X-ALT-DESC;FMTTYPE=text/html:You may have finished your holiday shopping already\, but did you remember to treat yourself too? This year\, give yourself the gift of an education from a nationally ranked\, regionally accredited university. Stop by the Crestview Chamber to chat with a Recruiter about furthering your education online.
LOCATION:Crestview Area Chamber of Commerce
UID:e.1264.12943
SEQUENCE:3
DTSTAMP:20260423T003957Z
URL:https://cvc-brooks2024-gzcms.preview.gochambermaster.com/events/details/troy-university-office-hours-12-11-2019-12943
END:VEVENT

END:VCALENDAR
