BEGIN:VCALENDAR
VERSION:2.0
PRODID:-//ChamberMaster//Event Calendar 2.0//EN
METHOD:PUBLISH
X-PUBLISHED-TTL:P3D
REFRESH-INTERVAL:P3D
CALSCALE:GREGORIAN
BEGIN:VEVENT
DTSTART:20210213T233000Z
DTEND:20210214T033000Z
X-MICROSOFT-CDO-ALLDAYEVENT:FALSE
SUMMARY:Valentine's Day Gala
DESCRIPTION:A red carpet event filled with fine dining\, music\, a silent auction\, and comedic guest Phil Palisoul.
X-ALT-DESC;FMTTYPE=text/html:A red carpet event filled with fine dining\, music\, a silent auction\, and comedic guest Phil Palisoul.
LOCATION:Crestview Community Center
UID:e.1264.13052
SEQUENCE:3
DTSTAMP:20260421T183915Z
URL:https://cvc-brooks2024-gzcms.preview.gochambermaster.com/events/details/valentine-s-day-gala-13052
END:VEVENT

END:VCALENDAR
