BEGIN:VCALENDAR
VERSION:2.0
PRODID:-//ChamberMaster//Event Calendar 2.0//EN
METHOD:PUBLISH
X-PUBLISHED-TTL:P3D
REFRESH-INTERVAL:P3D
CALSCALE:GREGORIAN
BEGIN:VEVENT
DTSTART:20210115T010000Z
DTEND:20210115T020000Z
X-MICROSOFT-CDO-ALLDAYEVENT:FALSE
SUMMARY:Virtual Foster Parent Info Session on ZOOM
DESCRIPTION:Please join us for our Virtual Foster Parent Info Session Learn how to become a Foster Parent and what's it like to foster children! https://www.elakeviewcenter.org/FamiliesFirstNetwork/virtual-foster-parent-info-sessions
X-ALT-DESC;FMTTYPE=text/html:Please join us for our Virtual Foster Parent Info Session Learn how to become a Foster Parent and what&#39\;s it like to foster children! https://www.elakeviewcenter.org/FamiliesFirstNetwork/virtual-foster-parent-info-sessions
LOCATION:ZOOM Webinar
UID:e.1264.13048
SEQUENCE:3
DTSTAMP:20260421T200759Z
URL:https://cvc-brooks2024-gzcms.preview.gochambermaster.com/events/details/virtual-foster-parent-info-session-on-zoom-13048
END:VEVENT

END:VCALENDAR
