BEGIN:VCALENDAR
VERSION:2.0
PRODID:-//ChamberMaster//Event Calendar 2.0//EN
METHOD:PUBLISH
X-PUBLISHED-TTL:P3D
REFRESH-INTERVAL:P3D
CALSCALE:GREGORIAN
BEGIN:VEVENT
DTSTART:20170513T150000Z
DTEND:20170513T200000Z
X-MICROSOFT-CDO-ALLDAYEVENT:FALSE
SUMMARY:Waterventures!
DESCRIPTION:Waterventures Learning Lab is a traveling science center loaded with museum-quality\, directed-learning activities about how water moves through our lives. This 53-foot semi-trailer will be in the Crestview Public Library parking lot from 10 a.m. until 3 p.m. on Saturday\, May 13. Registration is not required for this free event\, which is geared for children ages four and up and their adults. Please visit waterventures.us for more information or call 682-4432 with questions.
X-ALT-DESC;FMTTYPE=text/html:Waterventures Learning Lab is a traveling science center loaded with museum-quality\, directed-learning activities about how water moves through our lives. This 53-foot semi-trailer will be in the Crestview Public Library parking lot from 10 a.m. until 3 p.m. on Saturday\, May 13. Registration is not required for this free event\, which is geared for children ages four and up and their adults. Please visit waterventures.us for more information or call 682-4432 with questions.
LOCATION:Crestview Public Library 1445 Commerce Dr
UID:e.1264.10833
SEQUENCE:3
DTSTAMP:20260425T141426Z
URL:https://cvc-brooks2024-gzcms.preview.gochambermaster.com/events/details/waterventures-10833
END:VEVENT

END:VCALENDAR
