BEGIN:VCALENDAR
VERSION:2.0
PRODID:-//ChamberMaster//Event Calendar 2.0//EN
METHOD:PUBLISH
X-PUBLISHED-TTL:P3D
REFRESH-INTERVAL:P3D
CALSCALE:GREGORIAN
BEGIN:VEVENT
DTSTART:20190228T233000Z
DTEND:20190301T020000Z
X-MICROSOFT-CDO-ALLDAYEVENT:FALSE
SUMMARY:World's Greatest Baby Shower
DESCRIPTION:The Healthy Start Coalition of Okaloosa and Walton Counties invites all Okaloosa and Walton County pregnant women and their families as well as new parents who have had a baby within the last three months to join us for the World's Greatest Baby Shower! There will be up to 50 exhibitors with information on various topics such as parenting\, prenatal health\, new baby care\, community resources and more! For more information\, call (850) 833-9284
X-ALT-DESC;FMTTYPE=text/html:The Healthy Start Coalition of Okaloosa and Walton Counties invites all Okaloosa and Walton County pregnant women and their families as well as new parents who have had a baby within the last three months to join us for the World&#39\;s Greatest Baby Shower! There will be up to 50 exhibitors with information on various topics such as parenting\, prenatal health\, new baby care\, community resources and more! For more information\, call (850) 833-9284
LOCATION:The Emerald Coast Convention Center 1250 Micracle Strip Parkway Fort Walton Beach\, FL 32548
UID:e.1264.12528
SEQUENCE:3
DTSTAMP:20260423T221213Z
URL:https://cvc-brooks2024-gzcms.preview.gochambermaster.com/events/details/world-s-greatest-baby-shower-12528
END:VEVENT

END:VCALENDAR
