BEGIN:VCALENDAR
VERSION:2.0
PRODID:-//ChamberMaster//Event Calendar 2.0//EN
METHOD:PUBLISH
X-PUBLISHED-TTL:P3D
REFRESH-INTERVAL:P3D
CALSCALE:GREGORIAN
BEGIN:VEVENT
DTSTART:20200220T180000Z
DTEND:20200220T190000Z
X-MICROSOFT-CDO-ALLDAYEVENT:FALSE
SUMMARY:Young Professionals Committee Meeting
DESCRIPTION:Please join us David's Catfish House at 12noon for our monthly YP Committee meeting. This month's speaker is Chief Stephen McCosker.
X-ALT-DESC;FMTTYPE=text/html:Please join us David&#39\;s Catfish House at 12noon for our monthly YP Committee meeting. This month&#39\;s speaker is Chief Stephen McCosker.
LOCATION:
UID:e.1264.12970
SEQUENCE:3
DTSTAMP:20260422T192913Z
URL:https://cvc-brooks2024-gzcms.preview.gochambermaster.com/events/details/young-professionals-committee-meeting-12970
END:VEVENT

END:VCALENDAR
