BEGIN:VCALENDAR
VERSION:2.0
PRODID:-//ChamberMaster//Event Calendar 2.0//EN
METHOD:PUBLISH
X-PUBLISHED-TTL:P3D
REFRESH-INTERVAL:P3D
CALSCALE:GREGORIAN
BEGIN:VEVENT
DTSTART:20191214T160000Z
DTEND:20191214T220000Z
X-MICROSOFT-CDO-ALLDAYEVENT:FALSE
SUMMARY:Yule of Yesteryear
DESCRIPTION:The "most wonderful time of the year" is just around the corner\, and we're excited for our annual Yule of Yesteryear celebration! This year's festival will feature food and crafts from local restaurants and artisans along with live music and more. Come hungry and ready to support your community by shopping local for your last-minute Christmas gifts! We are now accepting applications for food and craft vendors for this year's Yule of Yesteryear! Please fill out the appropriate form below and return them via e-mail\, mail\, or in person. You can also pay on our website or by bringing your payment to the museum.
X-ALT-DESC;FMTTYPE=text/html:The &quot\;most wonderful time of the year&quot\; is just around the corner\, and we&#39\;re excited for our annual Yule of Yesteryear celebration! This year&#39\;s festival will feature food and crafts from local restaurants and artisans along with live music and more. Come hungry and ready to support your community by shopping local for your last-minute Christmas gifts! We are now accepting applications for food and craft vendors for this year&#39\;s Yule of Yesteryear! Please fill out the appropriate form below and return them via e-mail\, mail\, or in person. You can also pay on our website or by bringing your payment to the museum.
LOCATION:115 Westview Avenue Valparaiso\, FL 32580
UID:e.1264.12932
SEQUENCE:3
DTSTAMP:20260423T003959Z
URL:https://cvc-brooks2024-gzcms.preview.gochambermaster.com/events/details/yule-of-yesteryear-12-14-2019-12932
END:VEVENT

END:VCALENDAR
